BEGIN:VCALENDAR
PRODID:-//example.com//ics-php//DE
VERSION:2.0
CALSCALE:GREGORIAN
METHOD:PUBLISH
BEGIN:VEVENT
METHOD:PUBLISH
UID:event-12026Blasrohr1@example.com
DTSTAMP:20260417T080000Z
DTSTART;TZID=Europe/Berlin:20260417T180000Z
DTEND;TZID=Europe/Berlin:20260417T190000Z
SUMMARY:Rundenkampf Blasrohr1
DESCRIPTION:Saarwellingen
LOCATION:Heimkampf
BEGIN:VALARM
TRIGGER:-P7D
ACTION:DISPLAY
DESCRIPTION:Rundenkampf
END:VALARM
BEGIN:VALARM
TRIGGER:-P1T
ACTION:DISPLAY
DESCRIPTION:Runkenkampf
END:VALARM
END:VEVENT

BEGIN:VEVENT
METHOD:PUBLISH
UID:event-22026Blasrohr1@example.com
DTSTAMP:20260612T080000Z
DTSTART;TZID=Europe/Berlin:20260612T180000Z
DTEND;TZID=Europe/Berlin:20260612T190000Z
SUMMARY:Rundenkampf Blasrohr1
DESCRIPTION:Saarwellingen
LOCATION:Heimkampf
BEGIN:VALARM
TRIGGER:-P7D
ACTION:DISPLAY
DESCRIPTION:Rundenkampf
END:VALARM
BEGIN:VALARM
TRIGGER:-P1T
ACTION:DISPLAY
DESCRIPTION:Runkenkampf
END:VALARM
END:VEVENT

BEGIN:VEVENT
METHOD:PUBLISH
UID:event-32026Blasrohr1@example.com
DTSTAMP:20260626T080000Z
DTSTART;TZID=Europe/Berlin:20260626T180000Z
DTEND;TZID=Europe/Berlin:20260626T190000Z
SUMMARY:Rundenkampf Blasrohr1
DESCRIPTION:Elm 1
LOCATION:Heimkampf
BEGIN:VALARM
TRIGGER:-P7D
ACTION:DISPLAY
DESCRIPTION:Rundenkampf
END:VALARM
BEGIN:VALARM
TRIGGER:-P1T
ACTION:DISPLAY
DESCRIPTION:Runkenkampf
END:VALARM
END:VEVENT

BEGIN:VEVENT
METHOD:PUBLISH
UID:event-42026Blasrohr1@example.com
DTSTAMP:20260515T080000Z
DTSTART;TZID=Europe/Berlin:20260515T180000Z
DTEND;TZID=Europe/Berlin:20260515T190000Z
SUMMARY:Rundenkampf Blasrohr1
DESCRIPTION:Elm 1
LOCATION:Heimkampf
BEGIN:VALARM
TRIGGER:-P7D
ACTION:DISPLAY
DESCRIPTION:Rundenkampf
END:VALARM
BEGIN:VALARM
TRIGGER:-P1T
ACTION:DISPLAY
DESCRIPTION:Runkenkampf
END:VALARM
END:VEVENT

BEGIN:VEVENT
METHOD:PUBLISH
UID:event-52026Blasrohr1@example.com
DTSTAMP:20260526T080000Z
DTSTART;TZID=Europe/Berlin:20260526T180000Z
DTEND;TZID=Europe/Berlin:20260526T190000Z
SUMMARY:Rundenkampf Blasrohr1
DESCRIPTION:Elm 2
LOCATION:Heimkampf
BEGIN:VALARM
TRIGGER:-P7D
ACTION:DISPLAY
DESCRIPTION:Rundenkampf
END:VALARM
BEGIN:VALARM
TRIGGER:-P1T
ACTION:DISPLAY
DESCRIPTION:Runkenkampf
END:VALARM
END:VEVENT

BEGIN:VEVENT
METHOD:PUBLISH
UID:event-62026Blasrohr1@example.com
DTSTAMP:20260710T080000Z
DTSTART;TZID=Europe/Berlin:20260710T180000Z
DTEND;TZID=Europe/Berlin:20260710T190000Z
SUMMARY:Rundenkampf Blasrohr1
DESCRIPTION:Elm 2
LOCATION:Heimkampf
BEGIN:VALARM
TRIGGER:-P7D
ACTION:DISPLAY
DESCRIPTION:Rundenkampf
END:VALARM
BEGIN:VALARM
TRIGGER:-P1T
ACTION:DISPLAY
DESCRIPTION:Runkenkampf
END:VALARM
END:VEVENT

END:VCALENDAR

